BEGIN:VCALENDAR
VERSION:2.0
PRODID:-//Wright Way Coaching - ECPv6.10.3//NONSGML v1.0//EN
CALSCALE:GREGORIAN
METHOD:PUBLISH
X-WR-CALNAME:Wright Way Coaching
X-ORIGINAL-URL:https://wrightwaycoaching.com
X-WR-CALDESC:Events for Wright Way Coaching
REFRESH-INTERVAL;VALUE=DURATION:PT1H
X-Robots-Tag:noindex
X-PUBLISHED-TTL:PT1H
BEGIN:VTIMEZONE
TZID:America/New_York
BEGIN:DAYLIGHT
TZOFFSETFROM:-0500
TZOFFSETTO:-0400
TZNAME:EDT
DTSTART:20260308T070000
END:DAYLIGHT
BEGIN:STANDARD
TZOFFSETFROM:-0400
TZOFFSETTO:-0500
TZNAME:EST
DTSTART:20261101T060000
END:STANDARD
END:VTIMEZONE
BEGIN:VEVENT
DTSTART;TZID=America/New_York:20260307T103000
DTEND;TZID=America/New_York:20260307T133000
DTSTAMP:20260423T083137
CREATED:20260304T012257Z
LAST-MODIFIED:20260305T013746Z
UID:10889-1772879400-1772890200@wrightwaycoaching.com
SUMMARY:Musical Theater Auditions Class w/ Rance Wright (FT. LAUDERDALE\, FL)
DESCRIPTION:Musical Theatre Auditions Master Class \nwith Rance Wright \nSaturday\, March 7 | Fort Lauderdale\, Florida \nJoin New York City performance coach Rance Wright\, founder of The Wright Way Coaching\, for an in-depth Musical Theatre Auditions Master Class designed to elevate your audition technique\, storytelling\, and confidence in the room. \nIn this interactive class\, participants will bring one musical theatre piece of their choice and work on it in a supportive group setting. Students will receive personalized coaching focused on strengthening acting choices\, musical interpretation\, vocal delivery\, and overall audition presence. \nOne of the most powerful aspects of this class is the opportunity to learn not only from your own coaching but from observing others. Watching fellow performers work through adjustments\, storytelling choices\, and audition strategies provides valuable insight into what truly works in the room. \nParticipants can expect to: \n• Receive individualized coaching on their audition piece \n• Strengthen storytelling and character connection \n• Improve musical phrasing and interpretation \n• Learn professional audition techniques used in NYC \n• Gain insight by observing other performers’ work and adjustments \nThis master class is designed to feel safe\, encouraging\, and artistically focused\, allowing performers to take risks\, grow\, and deepen their craft. \n📓 Please bring a notebook and pen — there will be many valuable notes and insights to take away from the session. \n⏱ The class will run approximately three hours. \n🎭 Participation is limited to 15 working performers. \nOnce these spots are filled\, additional registrations will be available as observer/viewing slots for those who wish to attend and learn by watching the work in the room. \nTo be added to the observer list\, please email: \n📧 info@wrightwaycoaching.com \n⸻ \nAbout Rance Wright \nRance Wright is a New York City–based performance coach\, educator\, and performer\, and the founder of The Wright Way Coaching\, one of NYC’s most respected musical theatre training programs for young performers. \nWith decades of experience in the industry\, Rance has helped guide students who have gone on to perform on Broadway\, National Tours\, television\, film\, and leading regional theatres. Known for his work in acting pedagogy\, vocal performance development\, and audition technique\, Rance is passionate about helping artists build strong foundational technique while discovering their authentic voice as performers. \nThrough The Wright Way Coaching\, Rance leads intensives\, master classes\, and private coaching with leading Broadway professionals\, creating opportunities for performers from across the country to train at the highest level. \n  \n***TICKETS are NON REFUNDABLE or TRANSFERRABLE***
URL:https://wrightwaycoaching.com/workshop/musical-theater-auditions-class-w-rance-wright-ft-lauderdale-fl/
LOCATION:Fort Lauderdale\, FL\, Fort Lauderdale\, Florida\, United States
ATTACH;FMTTYPE=image/jpeg:https://wrightwaycoaching.com/wp-content/uploads/2026/03/6F522B8C-ECE5-4444-8126-221FEB8FB1A9.jpeg
ORGANIZER;CN="The Wright Way":MAILTO:Info@wrightwaycoaching.com
END:VEVENT
END:VCALENDAR