BEGIN:VCALENDAR
VERSION:2.0
PRODID:-//Wright Way Coaching - ECPv6.10.3//NONSGML v1.0//EN
CALSCALE:GREGORIAN
METHOD:PUBLISH
X-WR-CALNAME:Wright Way Coaching
X-ORIGINAL-URL:https://wrightwaycoaching.com
X-WR-CALDESC:Events for Wright Way Coaching
REFRESH-INTERVAL;VALUE=DURATION:PT1H
X-Robots-Tag:noindex
X-PUBLISHED-TTL:PT1H
BEGIN:VTIMEZONE
TZID:America/New_York
BEGIN:DAYLIGHT
TZOFFSETFROM:-0500
TZOFFSETTO:-0400
TZNAME:EDT
DTSTART:20250309T070000
END:DAYLIGHT
BEGIN:STANDARD
TZOFFSETFROM:-0400
TZOFFSETTO:-0500
TZNAME:EST
DTSTART:20251102T060000
END:STANDARD
END:VTIMEZONE
BEGIN:VEVENT
DTSTART;TZID=America/New_York:20250728T090000
DTEND;TZID=America/New_York:20250802T210000
DTSTAMP:20260420T103605
CREATED:20240919T222057Z
LAST-MODIFIED:20250626T211836Z
UID:9405-1753693200-1754168400@wrightwaycoaching.com
SUMMARY:NYC Summer Broadway Intensive 2025
DESCRIPTION:Celebrate our 15 year anniversary year!\nNew York\, New York “THE WRIGHT TRACK” Summer Broadway Intensive 2025\n  \nJoin us for The Wright Way’s NYC (In-Person) Broadway Intensive 2025\n  \nNew York\, NY Intensive days will be around 7-8 hours long on full day schedules\, and performance class sizes will be smaller to ensure a positive experience for all! \n  \nPlease sign up through this link here \n  \nWho are your instructors? \nInstructors are prominent Broadway and Entertainment Industry Pros who will provide your child with a superior intensive education in a fun\, safe\, and supportive environment. So far the staff consists of Rance Wright (New York Performance Coach)\, Joe Barros (Broadway\, Off-Broadway\, Regional\, Touring Director/Choreographer) Alison Franck (New York Casting Director)\, Justin Hansen (Regional Musical Director/Composer/Pianist)\,  Hector Flores Jr. (Choreographer and Production Assistant.)\, and more to be announced…(names may change) \n  \nWhen are the dates: July 28th – August 2nd\, 2025 \nLocation: New York City \nTime of day: 9:00am/10:00am ET – 8:00pm/9:00pm ET (Times will vary on days) \nRehearsal Location: TBA \nAges: 7 – 20 Years \nCost: $1850.00 \nHost Hotel:  \n\nHomewood Suites By Hilton New York/Midtown Manhattan Times Square South\, NY: CLICK THIS LINK TO RESERVE\n\n2. Fairfield Inn & Suites New York Manhattan/Times Square South: CLICK THIS LINK TO RESERVE \nShowcase Performance Location: TBA \n  \nWays To Sign Up Now: \n1. Please sign up through this link here: (options to pay with Venmo and Zelle can be found here) \n2. You can also pay through The Wright Way Website on the event page. \n3. You must fill out the google doc in the link above at #1. If you have any problems email us at info@wrightwaycoaching.com \nWhat programs do you offer? \nThe New York\, NY intensive is for all levels\, audition submissions will be required for placement only. We will focus on mainly Musical Theatre as well as Dramatic Arts\, Auditions\, Performance and Choreography! \nRead about our intensive program below! \nPlease note that this is not Private Coaching and the classes offered during this week are different than the classes we offer throughout our normal workshop programming through The Wright Way \n_________________________________________________________________________________ \nPlacement Submission Required | Ages 7-18 | July 28th – August 2nd\, 2025 | Cost: $1815.00 | Time: 9:00 AM/10:00 AM ET – 8:00 PM/9:00 PM ET \nPayment Plans Available – please email info@wrightwaycoaching.com to set up a payment plan today! \nPlease sign up through this link here \nHone your musical theatre chops in a fun\, safe\, and supportive environment in our interactive program with amazing Broadway and Regional Industry faculty! \nThe New York\, NY Intensive will meet in person for 7-8 hours daily on most days. A final showcase will also be included on the final day! Those interested in Private Coaching can email us at info@wrightwaycoaching.com for more information. \nCampers will have the chance to strengthen their singing\, dancing\, acting\, and performance skills through large and small group instruction daily! \nDance/Choreography Classes: \nEach camp day will consist of dance programming of some sort. Please make sure to bring the necessary dance outfits and shoes for the best overall experience. \nWorkshops: \nBroadway Fort  Intensive Campers will be able to take workshops\, Q&A’s and classes with Broadway Professionals such as Equity Stars\, Broadway Casting Directors\,  Musical Directors\, Directors\, New York Performance Coach and more. \nPrivate Coaching: \nDuring the week\, clients who are already a part of the Private Coaching program can schedule a lesson outside of the scheduled weeks activities. If you are interested in receiving a Private Coaching or to begin Private Coaching\, please email us at info@wrightwaycoaching.com for pricing\, etc. \nJuly 28 – August 2nd \nWeek Schedule: TBA \nOn the last day of the program\, campers will perform in a final showcase for family and friends! Join us to watch performers present what they have learned throughout the week! (If your loved ones can’t make it live\, a recorded version will be distributed via email a few weeks after the camp!) \nPayment Plans Available Please email info@wrightwaycoaching.com to set up a payment plan today! \nSign up now!!! \n  \nWays To Sign Up Now: \n1. Please sign up through this link here: (options to pay with Venmo and Zelle can be found here) \n2. You can also pay through The Wright Way Website on the event page however\, there is a $50.00 fee via website to do so. \n3. You must fill out the google doc in the link above at #1. If you have any problems email us at info@wrightwaycoaching.com \nJOIN US!!! \n\n\n\n\n\n\n\n\n\n\n 
URL:https://wrightwaycoaching.com/workshop/nyc-summer-broadway-intensive-2025/
LOCATION:New York City\, New York\, New York
CATEGORIES:The Wright Track Tour
ATTACH;FMTTYPE=image/jpeg:https://wrightwaycoaching.com/wp-content/uploads/2024/09/2025-Summer-Intensive-Poster.jpg
ORGANIZER;CN="The Wright Way":MAILTO:Info@wrightwaycoaching.com
END:VEVENT
END:VCALENDAR