BEGIN:VCALENDAR
VERSION:2.0
PRODID:-//Wright Way Coaching - ECPv6.10.3//NONSGML v1.0//EN
CALSCALE:GREGORIAN
METHOD:PUBLISH
X-WR-CALNAME:Wright Way Coaching
X-ORIGINAL-URL:https://wrightwaycoaching.com
X-WR-CALDESC:Events for Wright Way Coaching
REFRESH-INTERVAL;VALUE=DURATION:PT1H
X-Robots-Tag:noindex
X-PUBLISHED-TTL:PT1H
BEGIN:VTIMEZONE
TZID:America/New_York
BEGIN:DAYLIGHT
TZOFFSETFROM:-0500
TZOFFSETTO:-0400
TZNAME:EDT
DTSTART:20240310T070000
END:DAYLIGHT
BEGIN:STANDARD
TZOFFSETFROM:-0400
TZOFFSETTO:-0500
TZNAME:EST
DTSTART:20241103T060000
END:STANDARD
END:VTIMEZONE
BEGIN:VEVENT
DTSTART;TZID=America/New_York:20240803T193000
DTEND;TZID=America/New_York:20240803T210000
DTSTAMP:20260420T085632
CREATED:20240726T025752Z
LAST-MODIFIED:20240727T040400Z
UID:9187-1722713400-1722718800@wrightwaycoaching.com
SUMMARY:Streaming Tickets For "PUTTING IT TOGETHER: Summer Of Sondheim" Showcase
DESCRIPTION:The Wright Way’s Broadway Summer Intensive is back in New York City and it’s the SUMMER OF SONDHEIM! The intensive showcase Putting It Together will explore the thoughtful\, daring and extraordinary works of musical theatre master Stephen Sondheim. Join us for a tribute to Sondheim’s immeasurable influence on artists and audiences through themes of loss\, love\, struggle\, hope\, and the indelible power of home.\n\nJoin us via streaming on AUGUST 3rd at 7:30pm for an evening you will not soon forget. These students from all over the country have worked hard this week with the industry and are going to blow your socks off!\n\nJOIN US!\n\n(LINK FOR SHOW WILL BE EMAILED TO YOU DIRECTLY ON THE DAY OF THE SHOW! We Hope You Enjoy!)
URL:https://wrightwaycoaching.com/workshop/streaming-tickets-for-putting-it-together-summer-of-sondheim-showcase/
LOCATION:Online
ORGANIZER;CN="The Wright Way":MAILTO:Info@wrightwaycoaching.com
END:VEVENT
END:VCALENDAR